BEGIN:VCALENDAR
VERSION:2.0
PRODID:-//MUCBOOK - ECPv5.14.0.4//NONSGML v1.0//EN
CALSCALE:GREGORIAN
METHOD:PUBLISH
X-WR-CALNAME:MUCBOOK
X-ORIGINAL-URL:https://www.mucbook.de
X-WR-CALDESC:Veranstaltungen für MUCBOOK
BEGIN:VTIMEZONE
TZID:Europe/Berlin
BEGIN:DAYLIGHT
TZOFFSETFROM:+0100
TZOFFSETTO:+0200
TZNAME:CEST
DTSTART:20230326T010000
END:DAYLIGHT
BEGIN:STANDARD
TZOFFSETFROM:+0200
TZOFFSETTO:+0100
TZNAME:CET
DTSTART:20231029T010000
END:STANDARD
END:VTIMEZONE
BEGIN:VEVENT
DTSTART;VALUE=DATE:20230610
DTEND;VALUE=DATE:20230612
DTSTAMP:20260421T103303
CREATED:20230512T091536Z
LAST-MODIFIED:20230512T091536Z
UID:222593-1686355200-1686527999@www.mucbook.de
SUMMARY:Open Studios – Kunst im Botanikum @Botanikum
DESCRIPTION:Was: Open Studios – Kunst imBotanikum\nWann: 10. – 11. Juni 2023\nÖffnungszeiten: 12:00 bis 20:00 Uhr\nWo: Botanikum\, Feldmochinger Str. 75 – 79\, 80993 München / Moosach\nWer: 24 Künstler*innen der Künstlergemeinschaft im Botanikum\nEintritt frei!!\n\nUnter dem Motto „Wild Green“ lädt die Künstlergemeinschaft im Moosacher Botanikum zu\nden Open Studios auf dem Gelände der ehemaligen Großgärtnerei an der Feldmochinger\nStraße 75 – 79 ein.\n\nAm 10. Und 11. Juni 2023 öffnen 24 Künstler*innen ihre Ateliers in den alten charmanten\nGewächshäusern\, mit leicht morbidem Charme und gewähren Einblicke in ihre\nkünstlerischen Refugien. Zu sehen sind aktuelle Werke aus den Bereichen Malerei\,\nFotografie\, Bildhauerei und Schmuck. Die Ateliers sind am Samstag und Sonntag jeweils von\n12:00 Uhr bis 20:00 Uhr für kunstinteressierte Besucher*innen geöffnet.\nDiese Veranstaltung findet im Rahmen des diesjährigen „Flower Power Festival“ statt.\nEine gute Gelegenheit das Botanikum nocheinmal zu besuchen\, denn dessen Tage sind\ngezählt. Die Ateliers der rund 35 Künstler*innen werden voraussichtlich schon nächstes Jahr\neinem Neubauprojekt weichen. Es wird nicht mehr oft Gelegenheit geben das\naussergewöhnlich schöne Gelände mit mediterranem Ambiente zu besuchen.
URL:https://www.mucbook.de/event/open-studios-kunst-im-botanikum-botanikum/
LOCATION:Botanikum\, Feldmochinger Str. 75-79\, München\, 80993
CATEGORIES:Kunst
ATTACH;FMTTYPE=image/jpeg:https://www.mucbook.de/wp-content/uploads/2023/05/Benelisa_Franco_-Ist-die-Schönheit-eine-Illusion-160-x-170-cm.jpg
END:VEVENT
END:VCALENDAR