BEGIN:VCALENDAR
VERSION:2.0
PRODID:-//MUCBOOK - ECPv5.14.0.4//NONSGML v1.0//EN
CALSCALE:GREGORIAN
METHOD:PUBLISH
X-WR-CALNAME:MUCBOOK
X-ORIGINAL-URL:https://www.mucbook.de
X-WR-CALDESC:Veranstaltungen für MUCBOOK
BEGIN:VTIMEZONE
TZID:Europe/Berlin
BEGIN:DAYLIGHT
TZOFFSETFROM:+0100
TZOFFSETTO:+0200
TZNAME:CEST
DTSTART:20190331T010000
END:DAYLIGHT
BEGIN:STANDARD
TZOFFSETFROM:+0200
TZOFFSETTO:+0100
TZNAME:CET
DTSTART:20191027T010000
END:STANDARD
END:VTIMEZONE
BEGIN:VEVENT
DTSTART;TZID=Europe/Berlin:20191127T190000
DTEND;TZID=Europe/Berlin:20191127T190000
DTSTAMP:20260421T201257
CREATED:20190925T105609Z
LAST-MODIFIED:20190925T105621Z
UID:165228-1574881200-1574881200@www.mucbook.de
SUMMARY:Opening: Tell me about yesterday tomorrow @ NS-Dokumentationszentrum
DESCRIPTION:Vom 28. November 2019 bis 30. August 2020 zeigt das NS-Dokumentationszentrum München die Ausstellung „Tell me about yesterday tomorrow“\, die Gegenwartskunst in Austausch mit aktuellen Denkansätzen der Erinnerungsarbeit bringt. Das Projekt entsteht in Zusammenarbeit mit dem Kurator Nicolaus Schafhausen und wird durch die Kulturstiftung des Bundes gefördert. Die zu einem großen Teil neu entwickelten Arbeiten von mehr als 30 internationalen Künstlerinnen und Künstlern beschäftigen sich mit der Deutung von Vergangenheit und der Anknüpfung an unsere Gegenwart und werden im NS-Dokumentationszentrum München sowie an assoziierten Orten in der Stadt präsentiert. \n27.11.2019\, 19:00 \nNS-Dokumentationszentrum München \nMax-Mannheimer-Platz 1
URL:https://www.mucbook.de/event/opening-tell-me-about-yesterday-tomorrow-ns-dokumentationszentrum/
LOCATION:NS-Dokumentationszentrum\, München\, Deutschland
CATEGORIES:Ausstellung
END:VEVENT
END:VCALENDAR