BEGIN:VCALENDAR
VERSION:2.0
PRODID:-//MUCBOOK - ECPv5.14.0.4//NONSGML v1.0//EN
CALSCALE:GREGORIAN
METHOD:PUBLISH
X-WR-CALNAME:MUCBOOK
X-ORIGINAL-URL:https://www.mucbook.de
X-WR-CALDESC:Veranstaltungen für MUCBOOK
BEGIN:VTIMEZONE
TZID:Europe/Berlin
BEGIN:DAYLIGHT
TZOFFSETFROM:+0100
TZOFFSETTO:+0200
TZNAME:CEST
DTSTART:20180325T010000
END:DAYLIGHT
BEGIN:STANDARD
TZOFFSETFROM:+0200
TZOFFSETTO:+0100
TZNAME:CET
DTSTART:20181028T010000
END:STANDARD
END:VTIMEZONE
BEGIN:VEVENT
DTSTART;TZID=Europe/Berlin:20180726T110000
DTEND;TZID=Europe/Berlin:20180728T220000
DTSTAMP:20260422T135951
CREATED:20180711T094626Z
LAST-MODIFIED:20180711T094626Z
UID:134509-1532602800-1532815200@www.mucbook.de
SUMMARY:Optimal Sommerfest @ Optimal Records
DESCRIPTION:Liebe Vinylsüchtige\, \ndie meisten unter euch werden schon auf diese Ankündigung gewartet haben: \nEnde Juli steigt wieder unser jährliches Sommerfest. Erwartet bitte die üblichen Preisrutsche\, fantastische Konzerte und DJ Sets und nicht zuletzt diverse Leckereien von Herz und Schnauze sowie der Küchen-Crew aus dem Café Bellevue di Monaco. \nAm Donnerstagabend gegen 20 Uhr werden BamBam & LeRoy die Bühne in Beschlag nehmen. Benny Hofer aka BamBam\, der mit seinem motorbetriebenen Monstersequencer kurz mal ein Festival zum toben bringt und danach gleich ins deutsche Museum rollt. Dazu gesellt sich Leo Hopfinger der unter dem Namen LeRoy stets beweist\, dass auch eine krakelige Handschrift sehr schön sein kann. \nFreitagabend\, selbe Uhrzeit\, andere Granate auf der Bühne. Tom Wu verlässt Ganymed\, vielleicht sogar in seinem rosa Schlüpper\, in welchem er sich so lasziv auf seinem neuen Album-Cover im Magnetfeld eben jenes Jupitermondes treiben lässt. Er fühlt sich wohl im Retroklangraum seiner Jugend\, Pop und New Wave bilden noch immer das Fundament für seine Songs. Eine Ein-Mann-Drum-Set-Vocal-Performance – metaphysisch\, interdisziplinär und auf jeden Fall out of space. Please don’t call it Art Pop. \nAngela Aux dürfte derzeit viel zu tun haben\, denn er lotet gerne die Grenzen der Logik aus und hinterfragt – nicht nur in seiner Musik – die Denkmuster der modernen Gesellschaft.\nLoFi-Folk\, Gitarre und mehrstimmiger Gesang\, auch ein paar dezente Streicher\, Drum Machine und Field Recordings gehören zu den essentiellen Ingredienzien seines Sounds\, welchen er zum Abschluss der Konzerte am Samstag gegen 19.30 performen wird. \nAm selben Tag\, quasi als Zwischengang\, gibt es ein DJ Set von Andreas Wedel. Der Mann hat sich in seiner Sammlung vergraben und ein paar der schönsten Gospel-Platten rausgesucht\, welche wir gegen 17.30 zu hören bekommen werden. \nWir sehen uns… \nEuer Optimal-Team
URL:https://www.mucbook.de/event/optimal-sommerfest-optimal-records/
LOCATION:Optimal Records\, Kolosseumsstraße 6\, 80469 München
CATEGORIES:Fest,Musik
ATTACH;FMTTYPE=image/jpeg:https://www.mucbook.de/wp-content/uploads/2018/07/36863967_1836950399731205_1404664913808326656_n.jpg
END:VEVENT
END:VCALENDAR