BEGIN:VCALENDAR
VERSION:2.0
PRODID:-//MUCBOOK - ECPv5.14.0.4//NONSGML v1.0//EN
CALSCALE:GREGORIAN
METHOD:PUBLISH
X-WR-CALNAME:MUCBOOK
X-ORIGINAL-URL:https://www.mucbook.de
X-WR-CALDESC:Veranstaltungen für MUCBOOK
BEGIN:VTIMEZONE
TZID:Europe/Berlin
BEGIN:DAYLIGHT
TZOFFSETFROM:+0100
TZOFFSETTO:+0200
TZNAME:CEST
DTSTART:20190331T010000
END:DAYLIGHT
BEGIN:STANDARD
TZOFFSETFROM:+0200
TZOFFSETTO:+0100
TZNAME:CET
DTSTART:20191027T010000
END:STANDARD
END:VTIMEZONE
BEGIN:VEVENT
DTSTART;TZID=Europe/Berlin:20190202T200000
DTEND;TZID=Europe/Berlin:20190202T210000
DTSTAMP:20260419T205348
CREATED:20190103T100910Z
LAST-MODIFIED:20190103T100910Z
UID:145112-1549137600-1549141200@www.mucbook.de
SUMMARY:Out Of The Box Pyanook @ whitebox.art
DESCRIPTION:Out Of The Box\nDIGITALE POESIE >>> DIGITALE INNOVATION\nOut Of The Box > Digitale Poesie \nPYANOOK – Ralf Schmid\nFuturistisches Klavierkonzert in 4D: Videoprojektionen und Luftskulpturen von Pietro Cardarell interagieren mit Kompositionen und musikalischen Improvisationen. Klang und Bewegung scheinen magisch zu verschmelzen. http://pyanook.de/ \n  \n  \n  \n(Anzeige)
URL:https://www.mucbook.de/event/out-of-the-box-pyanook-whitebox-art/
LOCATION:whiteBOX\, Ateliers. 18 \, München\, 81671\, Deutschland
CATEGORIES:Festival,Musik
END:VEVENT
END:VCALENDAR