BEGIN:VCALENDAR
VERSION:2.0
PRODID:-//MUCBOOK - ECPv5.14.0.4//NONSGML v1.0//EN
CALSCALE:GREGORIAN
METHOD:PUBLISH
X-WR-CALNAME:MUCBOOK
X-ORIGINAL-URL:https://www.mucbook.de
X-WR-CALDESC:Veranstaltungen für MUCBOOK
BEGIN:VTIMEZONE
TZID:Europe/Berlin
BEGIN:DAYLIGHT
TZOFFSETFROM:+0100
TZOFFSETTO:+0200
TZNAME:CEST
DTSTART:20190331T010000
END:DAYLIGHT
BEGIN:STANDARD
TZOFFSETFROM:+0200
TZOFFSETTO:+0100
TZNAME:CET
DTSTART:20191027T010000
END:STANDARD
END:VTIMEZONE
BEGIN:VEVENT
DTSTART;TZID=Europe/Berlin:20190702T190000
DTEND;TZID=Europe/Berlin:20190702T190000
DTSTAMP:20260424T163433
CREATED:20190617T100455Z
LAST-MODIFIED:20190617T100455Z
UID:158548-1562094000-1562094000@www.mucbook.de
SUMMARY:Workshop Experimentelle Malerei mit Monika Humm @ PLATFORM
DESCRIPTION:Im Rahmen der Stadtteilwoche Sendling – Obersendling: \nAm Dienstag\, 02. Juli um 19 Uhr lädt die Künstlerin Monika Humm ein\, experimentelle Malerei im kleinen Format umzusetzen. Es wird mit verschiedenen Materialien und Techniken auf diversen Malgründen experimentiert und dadurch die vielfältigen Möglichkeiten der Aquarell- und Acrylmalerei entdeckt. \nDie Teilnahme ist kostenlos. Um eine Anmeldung unter: contact@platform-muenchen.de wird gebeten. \nBild © Ivana Bilz \n 
URL:https://www.mucbook.de/event/perspektiven-2019-preisverleihung-des-foerderpreises-fuer-junge-kunst-des-kunstclub13-e-v-platform-2-2-2/
LOCATION:Halle der PLATFORM\, Kistlerhofstr. 70\, München\, Bayern\, 81379\, Deutschland
CATEGORIES:Workshop
ATTACH;FMTTYPE=image/jpeg:https://www.mucbook.de/wp-content/uploads/2019/06/Offene-Atelier@Ivana-Bilz-138.jpg
END:VEVENT
END:VCALENDAR