BEGIN:VCALENDAR
VERSION:2.0
PRODID:-//MUCBOOK - ECPv5.14.0.4//NONSGML v1.0//EN
CALSCALE:GREGORIAN
METHOD:PUBLISH
X-WR-CALNAME:MUCBOOK
X-ORIGINAL-URL:https://www.mucbook.de
X-WR-CALDESC:Veranstaltungen für MUCBOOK
BEGIN:VTIMEZONE
TZID:Europe/Berlin
BEGIN:DAYLIGHT
TZOFFSETFROM:+0100
TZOFFSETTO:+0200
TZNAME:CEST
DTSTART:20170326T010000
END:DAYLIGHT
BEGIN:STANDARD
TZOFFSETFROM:+0200
TZOFFSETTO:+0100
TZNAME:CET
DTSTART:20171029T010000
END:STANDARD
END:VTIMEZONE
BEGIN:VEVENT
DTSTART;TZID=Europe/Berlin:20170413T100000
DTEND;TZID=Europe/Berlin:20170413T170000
DTSTAMP:20260422T052819
CREATED:20170321T151911Z
LAST-MODIFIED:20170321T151911Z
UID:105254-1492077600-1492102800@www.mucbook.de
SUMMARY:Peter Lindbergh. From Fashion to Reality @ Kunsthalle
DESCRIPTION:PETER LINDBERGH. FROM FASHION TO REALITY | IN DER KUNSTHALLE MÜNCHEN \nPeter Lindbergh (geboren 1944 in Lissa) ist einer der einflussreichsten Modefotografen der letzten vierzig Jahre. Neben seinen ikonischen Fotografien\, mit denen Lindbergh in den 1980er-Jahren das Phänomen der Supermodels begründete\, präsentiert diese Schau mit rund 220 Objekten auch Filme sowie exklusives\, bisher ungezeigtes Material wie Storyboards\, Requisiten\, Polaroids und Kontakt-Abzüge. Die Ausstellung wird von Thierry-Maxime Loriot kuratiert\, der in der Kunsthalle München bereits die Mode von Jean Paul Gaultier in Szene setzte. \nDie Ausstellung geht vom 13. April bis zum 27. August.
URL:https://www.mucbook.de/event/peter-lindbergh-from-fashion-to-reality-kunsthalle/
LOCATION:Kunsthalle München\, Theatinerstraße 8\, München\, 80333\, Germany
CATEGORIES:Ausstellung,Kunst
END:VEVENT
END:VCALENDAR