BEGIN:VCALENDAR
VERSION:2.0
PRODID:-//MUCBOOK - ECPv5.14.0.4//NONSGML v1.0//EN
CALSCALE:GREGORIAN
METHOD:PUBLISH
X-WR-CALNAME:MUCBOOK
X-ORIGINAL-URL:https://www.mucbook.de
X-WR-CALDESC:Veranstaltungen für MUCBOOK
BEGIN:VTIMEZONE
TZID:Europe/Berlin
BEGIN:DAYLIGHT
TZOFFSETFROM:+0100
TZOFFSETTO:+0200
TZNAME:CEST
DTSTART:20260329T010000
END:DAYLIGHT
BEGIN:STANDARD
TZOFFSETFROM:+0200
TZOFFSETTO:+0100
TZNAME:CET
DTSTART:20261025T010000
END:STANDARD
END:VTIMEZONE
BEGIN:VEVENT
DTSTART;TZID=Europe/Berlin:20260212T180000
DTEND;TZID=Europe/Berlin:20260212T210000
DTSTAMP:20260422T124247
CREATED:20260211T155618Z
LAST-MODIFIED:20260211T155618Z
UID:237201-1770919200-1770930000@www.mucbook.de
SUMMARY:PlanTreff ON TOUR – Stadt innovativ im Munich Urban Colab
DESCRIPTION:Welche Veränderungen werden das städtische Leben in Zukunft prägen?\nDer demografische Wandel\, wirtschaftliche und gesellschaftliche Entwicklungen\,\ndie Digitalisierung sowie die Transformation im Bauwesen und der Klimawandel\nfinden ihren Ausdruck in unserer gebauten Umwelt. \nDie Veranstaltungsreihe ON TOUR setzt sich mit den aktuellen Herausforderungen \nder Stadtentwicklung auseinander und trifft vor Ort auf zukunftsfähige Lösungen. \nExterne Inputs\, Best Practices und lokale Erfahrungen eröffnen Zukunftsperspektiven für München. \nNach dem Auftakt im Literaturhaus geht es in der 2. Veranstaltung am passenden Ort\num Innovationen im Bereich der Stadtentwicklung. \n\nInnovation ist entscheidend für die zukunftsfähige Stadt –\nsie braucht neue digitale Tools\, kluge Köpfe und kreative Räume. \nVerschiedene Akteur*innen zeigen\, wie Urbanität von Morgen gestaltet werden kann. \nGastgeberin und Begrüßung: Stadtbaurätin Prof. Dr. (Univ. Florenz) Elisabeth Merk \nKurzvorträge und Diskussion:\nProf. Dr.-Ing. Vanessa Borkmann\, Fraunhofer IAO\nJohannes Ernst\, Steidle Architekten\nClaudia Frey\, Geschäftsführerin Munich Urban Colab\nClemens Lindner\, Zaha Hadid Architects\nDr. Magnus Strobel\, Nexus Politics \n———————— \nDonnerstag\, 12. Februar\, 18 Uhr\nFreddie-Mercury-Straße 5\nkostenfreie Tickets  \nHinweis: Der Eintritt ist frei. Informationen zur Barrierefreiheit finden Sie hier. \nAnmeldung: Die Teilnehmerzahl ist begrenzt. \nFührung: Um 17 Uhr findet eine Führung durch das Munich Urban Colab statt. Eine separate Anmeldung hier ist erforderlich. \nFoto-Hinweis:  Bei der Veranstaltung wird gefilmt und fotografiert. Bitte informieren Sie uns\, wenn Sie nicht möchten\, dass Bilder\, auf denen Sie zu sehen sind\, veröffentlicht werden. \nBildnachweis: Tobias Hase
URL:https://www.mucbook.de/event/plantreff-on-tour-stadt-innovativ-im-munich-urban-colab-2/
LOCATION:Munich Urban Colab\, Freddie-Mercury-Straße 5\, München\, 80797\, Deutschland
CATEGORIES:Diskussion,stadtentwicklung,Vortrag
ATTACH;FMTTYPE=image/jpeg:https://www.mucbook.de/wp-content/uploads/2026/02/ONTour_VA_Headerimage_1184x888_20251222_01_v26.jpg
END:VEVENT
END:VCALENDAR