BEGIN:VCALENDAR
VERSION:2.0
PRODID:-//MUCBOOK - ECPv5.14.0.4//NONSGML v1.0//EN
CALSCALE:GREGORIAN
METHOD:PUBLISH
X-WR-CALNAME:MUCBOOK
X-ORIGINAL-URL:https://www.mucbook.de
X-WR-CALDESC:Veranstaltungen für MUCBOOK
BEGIN:VTIMEZONE
TZID:Europe/Berlin
BEGIN:DAYLIGHT
TZOFFSETFROM:+0100
TZOFFSETTO:+0200
TZNAME:CEST
DTSTART:20240331T010000
END:DAYLIGHT
BEGIN:STANDARD
TZOFFSETFROM:+0200
TZOFFSETTO:+0100
TZNAME:CET
DTSTART:20241027T010000
END:STANDARD
END:VTIMEZONE
BEGIN:VEVENT
DTSTART;TZID=Europe/Berlin:20241109T080000
DTEND;TZID=Europe/Berlin:20241110T190000
DTSTAMP:20260422T122842
CREATED:20241015T131520Z
LAST-MODIFIED:20241015T142936Z
UID:232967-1731139200-1731265200@www.mucbook.de
SUMMARY:PLATFORM OPEN STUDIOS 2024
DESCRIPTION:SAMSTAG\, 09.11.2024 13-18 Uhr\nSONNTAG\, 10.11.2024 13-19 Uhr\nAteliers der PLATFORM\nHalle der PLATFORM\nAusstellung / Exhibition \nAm Wochenende des 09. und 10. Novembers 2024 ist es noch einmal soweit: Die diesjährigen Open Studios in der PLATFORM öffnen ihre Türen. Vielleicht zum letzten Mal! \nSeit nunmehr 15 Jahren bietet die PLATFORM 23 Ateliers\, in denen etwa 40 Künstler*innen aus verschiedensten Disziplinen arbeiten. Das vielfältige Ausstellungsprogramm der PLATFORM war stets eng mit den regelmäßigen Beiträgen der Atelierkünstlerinnen verbunden und bereicherte das Viertel sowie die Stadt kulturell. Nun entfällt die städtische Förderung und die Ateliers sowie die PLATFORM in seiner jetzigen Ausrichtung stehen vor dem Aus. \nNoch einmal haben Interessierte die Möglichkeit\, hinter die Kulissen zu schauen und die Arbeitsstätten der Kunstschaffenden aus nächster Nähe zu erleben. In den Ateliers erhalten Sie tiefe Einblicke in die kreativen Prozesse und das Umfeld der Künstler*innen. Alle beteiligten Künstler*innen sind vor Ort und freuen sich auf inspirierende Gespräche und Begegnungen. Parallel eröffnet zu den „Open Studios“ die Gruppenausstellung der Atelierkünstler*innen der PLATFORM mit dem Titel „SATT“ \nTeilnehmende Künstler*innen:\nAlina Schweizer\, Anna Klüssendorf\, Anna Pasco Bolta\, Annemarie Faupel\, Annegret Bleisteiner\, Boban Andjelkovic\, Carmen Nöhbauer\, Claudia Singer\, Christian Weiß\, Curtis Talwst Santiago\, Daisuke Ogura\, Eduardo Palomares\, Gülcan Turna\, Hongyun He\, Hyundeok Hwang\, Ivan Paskalev\, Jan Dominik Kudla\, Jess Walter\, Jonghoon Im\, Jovana Banjac\, Kimo Onkim\, Klaus Erika Dietl\, Marc Melchior\, Markus Kurscheidt\, Mirko Hecktor\, Monika Humm\, Niloofar Shirani\, Nikolai Vogel\, Patricia Lincke\, Pavel Sinev\, Raik Gupin\, Silke Markefka\, Silvia Schreiber\, Siyoung Kim\, Stefanie Unruh\, Stephanie Müller\, Sun Yun Park\, Terra Magica Records\,  Ute Heim\, Verena Hägler   \nProgramm:\nWährend der Open Studios führen Mitarbeitende der PLATFORM auf Deutsch und bei Bedarf auch auf Englisch durch die Ausstellungen. Nach Ihrem Rundgang durch die Ateliers können Sie sich in unserem Pop-up-Café bei einer Erfrischung entspannen. \nFührungen durch ausgewählte Ateliers: \nSamstag\, 09.11.2024 \nJe 14:00 & 16:00 Uhr \nSonntag\, 10.11.2024 \nJe 14:00 & 16:00 Uhr \nUm Anmeldungen wird bis spätestens 1 Tag vor der Veranstaltung via Mail an contact@platform-muenchen.de gebeten. \nNach Ihrem Rundgang durch die Ateliers können Sie sich in unserem Pop-up-Café bei einer Erfrischung entspannen. \nDie Räume sind barrierefrei erreichbar.
URL:https://www.mucbook.de/event/platform-open-studios-2024/
LOCATION:Halle der PLATFORM\, Kistlerhofstr. 70\, München\, Bayern\, 81379\, Deutschland
CATEGORIES:Ausstellung
ATTACH;FMTTYPE=image/jpeg:https://www.mucbook.de/wp-content/uploads/2024/10/PLATFORM_openstudios_facebook.jpg
END:VEVENT
END:VCALENDAR