BEGIN:VCALENDAR
VERSION:2.0
PRODID:-//MUCBOOK - ECPv5.14.0.4//NONSGML v1.0//EN
CALSCALE:GREGORIAN
METHOD:PUBLISH
X-WR-CALNAME:MUCBOOK
X-ORIGINAL-URL:https://www.mucbook.de
X-WR-CALDESC:Veranstaltungen für MUCBOOK
BEGIN:VTIMEZONE
TZID:Europe/Berlin
BEGIN:DAYLIGHT
TZOFFSETFROM:+0100
TZOFFSETTO:+0200
TZNAME:CEST
DTSTART:20180325T010000
END:DAYLIGHT
BEGIN:STANDARD
TZOFFSETFROM:+0200
TZOFFSETTO:+0100
TZNAME:CET
DTSTART:20181028T010000
END:STANDARD
END:VTIMEZONE
BEGIN:VEVENT
DTSTART;TZID=Europe/Berlin:20180730T180000
DTEND;TZID=Europe/Berlin:20180730T200000
DTSTAMP:20260424T154541
CREATED:20180711T071151Z
LAST-MODIFIED:20180711T071151Z
UID:134473-1532973600-1532980800@www.mucbook.de
SUMMARY:Podiumsdiskussion „Kommt jetzt das Isarflussbad“? @ Kulturstrand
DESCRIPTION:Kommt jetzt das “Isarflussbad”? \nPodiumsdiskussion mit: \nProf. Dr. Hans Theiss | In Vertretung von Bürgermeister Josef Schmid \nStephanie Jacobs | Umweltreferentin der LH München \nProf. Dr.-Ing. Silke Langenberg | Hochschule München \nKristina Frank | Stadträtin | CSU-Fraktion \nChristian Müller | Stadtrat | SPD-Fraktion \nDr. Florian Roth | Stadtrat | Fraktion Bündnis90/ Die Grünen – rosa liste \nThomas Ranft | Stadtrat | Fraktion FDP-Hut \nDr. Thorsten Kellermann | Bund Naturschutz KG München e.V. \nBenjamin David | Isarlust e.V. | die urbanauten \nModeration: Michael Ruhland | Isarlust e.V. \nZeit | 30.7.2018 | 18.00 – 20.00 Uhr \nOrt | Kulturstrand\, Auf der Insel\, Ludwigsbrücke\nWir empfehlen mit Fahrrad\, Fuss\, S-Bahn oder Tram zu kommen. Wer schwimmt: bitte das Badeverbot beachten und direkt hinter der Ludwigsbrücke die kleine Leiter auf der rechten Seite verwenden. \nZürich hat sie. Kopenhagen hat sie. Paris hat sie. Berlin und New York bekommen sie. Flussbäder! Rund ums Jahr. Trotz Hochwassergefahren und Wassertemperaturen. Nur in München ist das Schwimmen und Baden in der Isar noch verboten. Und das obwohl eine vom Isarlust e.V. angerechte Machbarkeitsstudie im Auftrag der LH München zeigt\, dass ein Isarflussbad zwischen Deutschem Museum und den Patentämtern möglich wäre. Kommt jetzt das Isarflussbad? Wir diskutieren mit den Entscheidern. \nIm Anschluss gibt es das Konzert mit „Dude Spencer“: https://www.facebook.com/events/194521567918076/
URL:https://www.mucbook.de/event/podiumsdiskussion-kommt-jetzt-das-isarflussbad-kulturstrand/
LOCATION:Kulturstrand München
CATEGORIES:Diskussion,Live,Musik,Vortrag
END:VEVENT
END:VCALENDAR