BEGIN:VCALENDAR
VERSION:2.0
PRODID:-//MUCBOOK - ECPv5.14.0.4//NONSGML v1.0//EN
CALSCALE:GREGORIAN
METHOD:PUBLISH
X-WR-CALNAME:MUCBOOK
X-ORIGINAL-URL:https://www.mucbook.de
X-WR-CALDESC:Veranstaltungen für MUCBOOK
BEGIN:VTIMEZONE
TZID:Europe/Berlin
BEGIN:DAYLIGHT
TZOFFSETFROM:+0100
TZOFFSETTO:+0200
TZNAME:CEST
DTSTART:20230326T010000
END:DAYLIGHT
BEGIN:STANDARD
TZOFFSETFROM:+0200
TZOFFSETTO:+0100
TZNAME:CET
DTSTART:20231029T010000
END:STANDARD
END:VTIMEZONE
BEGIN:VEVENT
DTSTART;TZID=Europe/Berlin:20230316T190000
DTEND;TZID=Europe/Berlin:20230316T210000
DTSTAMP:20260423T230508
CREATED:20230301T093253Z
LAST-MODIFIED:20230301T093253Z
UID:220424-1678993200-1679000400@www.mucbook.de
SUMMARY:Politisches Foyer Thema: Armut @ Villa Stuck
DESCRIPTION:Im Gesprächsformat Politisches Foyer werden gesellschaftspolitisch relevante Themen fundiert und kontrovers diskutiert und der konstruktive Austausch mit Menschen ermöglicht\, die verschiedene politische Ansichten vertreten. \nMit dem Slogan „Wir müssen reden!“ startet die neue Gesprächsreihe „Das Politische Foyer“ im Museum Villa Stuck. Die Journalistin Yasmine M’Barek moderiert das Podiums- und Publikumsgespräch zum Thema Armut und spricht mit ihren Gästen Luisa Thomé und Olivier David. \nBei dem öffentlichen Debattenabend geht es um Armut\, um deren Sichtbarkeit in der Öffentlichkeit sowie den gesellschaftlichen Umgang damit und auch um die konkrete Situation in der reichsten Stadt Deutschlands. Die Journalistin Yasmine M’Barek stellt zunächst das Thema im Gespräch mit zwei Podiumsgästen in seiner ganzen Bandbreite dar\, um anschließend die Debatte für das teilnehmende Publikum zu öffnen. Das moderierte Gespräch lässt dabei vielfältige Perspektiven zur Sprache kommen und gibt differenziert Aufschluss über die Tragweite der Problematik. Wir möchten präzise\, engagiert und konstruktiv diskutieren. Offenheit und Toleranz gegenüber Andersdenkenden sowie Neugier auf neue Blickwinkel sind Ziele dieser Abendreihe.
URL:https://www.mucbook.de/event/politisches-foyer-thema-armut-villa-stuck/
LOCATION:Villa Stuck\, Prinzregentenstraße 60\, München
CATEGORIES:Diskussion
END:VEVENT
END:VCALENDAR