BEGIN:VCALENDAR
VERSION:2.0
PRODID:-//MUCBOOK - ECPv5.14.0.4//NONSGML v1.0//EN
CALSCALE:GREGORIAN
METHOD:PUBLISH
X-WR-CALNAME:MUCBOOK
X-ORIGINAL-URL:https://www.mucbook.de
X-WR-CALDESC:Veranstaltungen für MUCBOOK
BEGIN:VTIMEZONE
TZID:Europe/Berlin
BEGIN:DAYLIGHT
TZOFFSETFROM:+0100
TZOFFSETTO:+0200
TZNAME:CEST
DTSTART:20230326T010000
END:DAYLIGHT
BEGIN:STANDARD
TZOFFSETFROM:+0200
TZOFFSETTO:+0100
TZNAME:CET
DTSTART:20231029T010000
END:STANDARD
END:VTIMEZONE
BEGIN:VEVENT
DTSTART;TZID=Europe/Berlin:20231203T193000
DTEND;TZID=Europe/Berlin:20231203T213000
DTSTAMP:20260424T161256
CREATED:20231121T133613Z
LAST-MODIFIED:20231121T133613Z
UID:226880-1701631800-1701639000@www.mucbook.de
SUMMARY:Purple Comedy @ Ruby Lilly Hotel & Bar
DESCRIPTION:Am 3. Dezember werden sechs der witzigsten Stand-up-Comedians Münchens die Bühne im einzigartigen Ruby Lilly Hotel betreten\, um Ihnen eine rasante Dosis kantigen\, unverblümten Humors zu bieten. \nUnsere Comedians kommen aus den unterschiedlichsten Orten und Hintergründen und haben das Publikum in nah und fern zum Lachen gebracht. Aber eines haben sie alle gemeinsam: Sie sagen\, was Sache ist\, und das auf eine Art und Weise\, die Ihnen die Tränen in die Augen treibt. Seien Sie also bereit für einen fesselnden Ritt\, wenn sie Sie an einem der schönsten Orte Münchens\, dem Ruby Lilly Hotel\, mit auf die Reise nehmen. \nWICHTIG \nNach der Show wird eine obligatorische Spende eingesammelt. Wie viel Sie spenden\, hängt davon ab\, wie sehr Ihnen die Show gefallen hat. Der Mindestbetrag beträgt jedoch 5 €.\nMit Ihrer Spende unterstützen Sie die Comedians und tragen dazu bei\, dass die englische Stand-up-Szene in München überleben und gedeihen kann. \nAlso kommen Sie vorbei\, nehmen Sie einen Drink und genießen Sie die Show. Wir freuen uns darauf\, einen tollen Abend mit Ihnen zu verbringen. Es wird ein Riesenspaß werden!
URL:https://www.mucbook.de/event/purple-comedy-ruby-lilly-hotel-bar/
LOCATION:Ruby Lilly Hotel & Bar\, Dachauer Straße 37\, München\, Bayern\, 80335\, Deutschland
CATEGORIES:Comedy
ATTACH;FMTTYPE=image/jpeg:https://www.mucbook.de/wp-content/uploads/2023/11/purple-comedy.jpg
END:VEVENT
END:VCALENDAR