BEGIN:VCALENDAR
VERSION:2.0
PRODID:-//MUCBOOK - ECPv5.14.0.4//NONSGML v1.0//EN
CALSCALE:GREGORIAN
METHOD:PUBLISH
X-WR-CALNAME:MUCBOOK
X-ORIGINAL-URL:https://www.mucbook.de
X-WR-CALDESC:Veranstaltungen für MUCBOOK
BEGIN:VTIMEZONE
TZID:Europe/Berlin
BEGIN:DAYLIGHT
TZOFFSETFROM:+0100
TZOFFSETTO:+0200
TZNAME:CEST
DTSTART:20170326T010000
END:DAYLIGHT
BEGIN:STANDARD
TZOFFSETFROM:+0200
TZOFFSETTO:+0100
TZNAME:CET
DTSTART:20171029T010000
END:STANDARD
END:VTIMEZONE
BEGIN:VEVENT
DTSTART;TZID=Europe/Berlin:20171110T193000
DTEND;TZID=Europe/Berlin:20171110T230000
DTSTAMP:20260422T100714
CREATED:20171107T104052Z
LAST-MODIFIED:20171107T104052Z
UID:120819-1510342200-1510354800@www.mucbook.de
SUMMARY:Queens of the Stone Age @ Zenith
DESCRIPTION:Queens of the Stone Age wurde 1996 gegründet. Die Band lässt sich der Alternative-Rock bzw. der Stoner-Rock-Szene zuordnen. Seit Beginn hält Josh Homme die Stellung in der Band. In ihren Anfängen spielten Queens of the Stone Age zähen Rock\, den Homme später als „Robot-Rock“ bezeichnete. Bis heute hat die Erfolgsgeschichte der Band Queens of the Stone Age nicht nachgelassen. \nTickets: ab 110€ – Schnell sein!
URL:https://www.mucbook.de/event/queens-of-the-stone-age-zenith/
LOCATION:Zenith\, Lilienthalallee 35\, MÜNCHEN\, Bayern\, 80939\, Deutschland
CATEGORIES:Live,Musik
END:VEVENT
END:VCALENDAR