BEGIN:VCALENDAR
VERSION:2.0
PRODID:-//MUCBOOK - ECPv5.14.0.4//NONSGML v1.0//EN
CALSCALE:GREGORIAN
METHOD:PUBLISH
X-WR-CALNAME:MUCBOOK
X-ORIGINAL-URL:https://www.mucbook.de
X-WR-CALDESC:Veranstaltungen für MUCBOOK
BEGIN:VTIMEZONE
TZID:Europe/Berlin
BEGIN:DAYLIGHT
TZOFFSETFROM:+0100
TZOFFSETTO:+0200
TZNAME:CEST
DTSTART:20220327T010000
END:DAYLIGHT
BEGIN:STANDARD
TZOFFSETFROM:+0200
TZOFFSETTO:+0100
TZNAME:CET
DTSTART:20221030T010000
END:STANDARD
END:VTIMEZONE
BEGIN:VEVENT
DTSTART;TZID=Europe/Berlin:20220915T190000
DTEND;TZID=Europe/Berlin:20220915T210000
DTSTAMP:20260419T222225
CREATED:20220826T130209Z
LAST-MODIFIED:20220826T130209Z
UID:215907-1663268400-1663275600@www.mucbook.de
SUMMARY:Rimokon
DESCRIPTION:Eröffnung Artothek: 15. September 2022\, 19 Uhr\nEröffnung Halle der PLATFORM: 16. September 2022\, 19 Uhr \nDauer der Ausstellung:\nArtothek: 16. September – 22. Oktober 2022\nHalle der PLATFORM: 16. September – 7. Oktober 2022 \n  \n2022 jährt sich die Städtepartnerschaft von München und Sapporo\, die anlässlich der Olympischen Spiele 1972 initiiert wurde\, zum fünfzigsten Mal. \nRimokon ist die Fortführung und Rückeinladung des Ausstellungsprojektes „Sister City Brother Project“ mit Münchner Künstler*innen\, das von Oktober 2019 bis Januar 2020 in Sapporo im 500 m Museum stattfand. Ziel ist es\, den interkulturellen Austausch zwischen München und Sapporo weiter zu vertiefen. Unter dem Titel Rimokon (Fern-Steuerung) werden bereits existierende Künstler*innenpartnerschaften in einer Zeit gepflegt\, die widerspenstiger nicht sein könnte. Den Schwierigkeiten eines Arbeitsaufenthalts unter Pandemiebedingungen wird durch Steuerung künstlerischer und organisatorischer Handlungen aus der Ferne im Vorfeld begegnet. Dadurch entsteht eine Art der partizipativen Autorenschaft\, die die Teilhabe an der künstlerischen Position des globalen Gegenübers intensiviert. Es werden fünf Teams aus je ein bis zwei japanischen und deutschen Künstler*innen gebildet\, die verschiedene Arbeitsaufträge füreinander realisieren. Beim physischen Aufeinandertreffen werden die Ausstellungsformate in München gemeinsam finalisiert und die transkontinentale Zusammenarbeit reflektiert. \n  \nKünstlerische Leitung: Alix Stadtbäumer\, Dr. Christian Landspersky\, Matthieu Chladek
URL:https://www.mucbook.de/event/rimokon/
LOCATION:Artothek\, Rosental 16\, München\, Bayern\, 80331\, Deutschland
CATEGORIES:Ausstellung,Kunst
END:VEVENT
END:VCALENDAR