BEGIN:VCALENDAR
VERSION:2.0
PRODID:-//MUCBOOK - ECPv5.14.0.4//NONSGML v1.0//EN
CALSCALE:GREGORIAN
METHOD:PUBLISH
X-WR-CALNAME:MUCBOOK
X-ORIGINAL-URL:https://www.mucbook.de
X-WR-CALDESC:Veranstaltungen für MUCBOOK
BEGIN:VTIMEZONE
TZID:Europe/Berlin
BEGIN:DAYLIGHT
TZOFFSETFROM:+0100
TZOFFSETTO:+0200
TZNAME:CEST
DTSTART:20230326T010000
END:DAYLIGHT
BEGIN:STANDARD
TZOFFSETFROM:+0200
TZOFFSETTO:+0100
TZNAME:CET
DTSTART:20231029T010000
END:STANDARD
END:VTIMEZONE
BEGIN:VEVENT
DTSTART;TZID=Europe/Berlin:20231206T180000
DTEND;TZID=Europe/Berlin:20231206T210000
DTSTAMP:20260424T144633
CREATED:20231206T093633Z
LAST-MODIFIED:20231206T093633Z
UID:227547-1701885600-1701896400@www.mucbook.de
SUMMARY:"Schema" Will Freudenheim @ ZIRKA
DESCRIPTION:Entdecke die Ausstellung des interaktiven Simulationsspiels “Schema” mit dem New Yorker Künstler Will Freudenheim bei Caldo Worldwide vom 7. bis zum 30. Dezember 2023 und online bis Mai 2024. Führe in einer interaktiven Livestream-Simulation eine kollektiv gesteuerte Kreatur durch Wald-Abenteuer\, indem du ihren Gefühlszustand veränderst. \nDie Ausstellung wird ergänzt von einer physischen Edition und einer Publikation. \nMehr Informationen findest du auf caldo-worldwide.com\nEröffnung: 6.12.2023\, 18 – 21 Uhr\nAusstellungslaufzeit: 7.12. – 30.12.2023 \nÖffnungszeiten\nMittwoch–Freitag: 12:00–18:00 Uhr\nSamstag: 12:00–16:00 Uhr\nund nach Vereinbarung
URL:https://www.mucbook.de/event/schema-will-freudenheim-zirka/
LOCATION:ZIRKA\, Dachauer Straße 110c\, München\, Bayern\, 80636\, Deutschland
CATEGORIES:Ausstellung,Kunst,Vernissage
ATTACH;FMTTYPE=image/jpeg:https://www.mucbook.de/wp-content/uploads/2023/12/schema.jpg
END:VEVENT
END:VCALENDAR