BEGIN:VCALENDAR
VERSION:2.0
PRODID:-//MUCBOOK - ECPv5.14.0.4//NONSGML v1.0//EN
CALSCALE:GREGORIAN
METHOD:PUBLISH
X-WR-CALNAME:MUCBOOK
X-ORIGINAL-URL:https://www.mucbook.de
X-WR-CALDESC:Veranstaltungen für MUCBOOK
BEGIN:VTIMEZONE
TZID:Europe/Berlin
BEGIN:DAYLIGHT
TZOFFSETFROM:+0100
TZOFFSETTO:+0200
TZNAME:CEST
DTSTART:20190331T010000
END:DAYLIGHT
BEGIN:STANDARD
TZOFFSETFROM:+0200
TZOFFSETTO:+0100
TZNAME:CET
DTSTART:20191027T010000
END:STANDARD
END:VTIMEZONE
BEGIN:VEVENT
DTSTART;TZID=Europe/Berlin:20191126T203000
DTEND;TZID=Europe/Berlin:20191126T223000
DTSTAMP:20260423T195530
CREATED:20191119T142518Z
LAST-MODIFIED:20191119T142518Z
UID:169529-1574800200-1574807400@www.mucbook.de
SUMMARY:Standup Der urbane Dorfdepp -Galgenhumor 4.0.
DESCRIPTION:Immerhin: Erstes Gastspiel im grandiosen IMPORT-EXPORT im Kreativquartier am Leonrodplatz in Neuhausen. Mit dem Standupsolo DER URBANE DORFDEPP. Galgenhumor 4.0. Am 26. November 2019 (20:30\, Einlass 19 Uhr). Immer hin!
URL:https://www.mucbook.de/event/standup-der-urbane-dorfdepp-galgenhumor-4-0/
LOCATION:Import Export\, Kreativquartier Dachauerstr. 114\, 80636 München\, München\, Deutschland
CATEGORIES:Comedy,Vortrag
END:VEVENT
END:VCALENDAR