BEGIN:VCALENDAR
VERSION:2.0
PRODID:-//MUCBOOK - ECPv5.14.0.4//NONSGML v1.0//EN
CALSCALE:GREGORIAN
METHOD:PUBLISH
X-WR-CALNAME:MUCBOOK
X-ORIGINAL-URL:https://www.mucbook.de
X-WR-CALDESC:Veranstaltungen für MUCBOOK
BEGIN:VTIMEZONE
TZID:Europe/Berlin
BEGIN:DAYLIGHT
TZOFFSETFROM:+0100
TZOFFSETTO:+0200
TZNAME:CEST
DTSTART:20220327T010000
END:DAYLIGHT
BEGIN:STANDARD
TZOFFSETFROM:+0200
TZOFFSETTO:+0100
TZNAME:CET
DTSTART:20221030T010000
END:STANDARD
END:VTIMEZONE
BEGIN:VEVENT
DTSTART;TZID=Europe/Berlin:20220813T080000
DTEND;TZID=Europe/Berlin:20220814T170000
DTSTAMP:20260419T141913
CREATED:20220810T141230Z
LAST-MODIFIED:20220810T141230Z
UID:215528-1660377600-1660496400@www.mucbook.de
SUMMARY:Sternenkrieger und Fantasy-Treffen für den guten Zweck @ Bayernpark
DESCRIPTION:Science-Fiction-Fans aufgepasst! Bereits zum 18. Mal lädt der Bayern-Park am 13. und 14. August zum großen Sternenkrieger und Fantasy-Treffen. Der Erlös der Veranstaltung seitens der Organisatoren geht wie auch in den Jahren zuvor an die Stiftung Aktion Knochenmarkspende Bayern (AKB). Zudem besteht die Möglichkeit\, sich vor Ort als Stammzellspender zu registrieren.\n\nAtemberaubende Lichtschwertshows\, eine einzigartige Parade\, eine große Tombola\, eine Versteigerungsaktion und die Lieblingshelden hautnah.  Als besonderes Highlight begrüßt der Veranstalter die amerikanischen Police Officer\, die mit ihren originalgetreuen und aufwändig restaurierten US-Fahrzeugen begeistern. Zudem gibt es verschiedene Info- und Verkaufsstände\, die SciFi und Fantasy-Spiele\, Filme sowie Sammlerstücke anbieten.
URL:https://www.mucbook.de/event/sternenkrieger-und-fantasy-treffen-fuer-den-guten-zweck-bayernpark/
LOCATION:Bayern-Park\, Fellbach 1\, Reisbach\, 94419
CATEGORIES:Festival
END:VEVENT
END:VCALENDAR