BEGIN:VCALENDAR
VERSION:2.0
PRODID:-//MUCBOOK - ECPv5.14.0.4//NONSGML v1.0//EN
CALSCALE:GREGORIAN
METHOD:PUBLISH
X-WR-CALNAME:MUCBOOK
X-ORIGINAL-URL:https://www.mucbook.de
X-WR-CALDESC:Veranstaltungen für MUCBOOK
BEGIN:VTIMEZONE
TZID:Europe/Berlin
BEGIN:DAYLIGHT
TZOFFSETFROM:+0100
TZOFFSETTO:+0200
TZNAME:CEST
DTSTART:20190331T010000
END:DAYLIGHT
BEGIN:STANDARD
TZOFFSETFROM:+0200
TZOFFSETTO:+0100
TZNAME:CET
DTSTART:20191027T010000
END:STANDARD
END:VTIMEZONE
BEGIN:VEVENT
DTSTART;TZID=Europe/Berlin:20190516T170000
DTEND;TZID=Europe/Berlin:20190516T210000
DTSTAMP:20260421T120846
CREATED:20190509T075358Z
LAST-MODIFIED:20190509T075428Z
UID:155153-1558026000-1558040400@www.mucbook.de
SUMMARY:Stroke Art Fair Eröffnung @ Alte Akademie
DESCRIPTION:Die STROKE ist die weltweit erste Messe für Urban Art\, Streetart und Neue Zeitgenössische Kunst. STROKE verbindet wie kein anderes Format den Anspruch einer klassischen Kunstmesse mit der Energie und der Lebenslust einer neuen Generation von Künstlern und Kunstinteressierten. \nZum 10jährigen Jubiläum\, widmet sich die STROKE Art Fair ganz dem Motto”zurück zu den Wurzeln – zurück in die Zukunft” und bezieht vom 16. bis 19. Mai die wohl prominenteste Off-Location der Stadt München. \nDie sogenannte “Alte Akademie” befindet sich mitten im Einkaufs-zentrum von München. Hier auf der Neuhauser Strasse flanieren rund 15.000 Besucher – pro Stunde wohlgemerkt. Noch zentraler geht es also nicht! \nDie Alte Akademie wurde bereits im 16. Jahrhundert erbaut und besticht heute noch immer mit seiner Renaissance-Fassade. Zuletzt beherbergte sie das Landesamt für Statistik und Datenverarbeitung\, dass auch für das 80er Jahre Flair der Innenräume verantwortlich ist. Die “Alte Akademie” steht kurz vor dem Umbau und wird von der Messe letztmalig als Event-Location genutzt.
URL:https://www.mucbook.de/event/stroke-art-fair-eroeffnung-alte-akademie/
LOCATION:Alte Akademie\, Neuhauserstraße 8-10\, München
CATEGORIES:Ausstellung,Kunst,Opening,Vernissage
END:VEVENT
END:VCALENDAR