BEGIN:VCALENDAR
VERSION:2.0
PRODID:-//MUCBOOK - ECPv5.14.0.4//NONSGML v1.0//EN
CALSCALE:GREGORIAN
METHOD:PUBLISH
X-WR-CALNAME:MUCBOOK
X-ORIGINAL-URL:https://www.mucbook.de
X-WR-CALDESC:Veranstaltungen für MUCBOOK
BEGIN:VTIMEZONE
TZID:Europe/Berlin
BEGIN:DAYLIGHT
TZOFFSETFROM:+0100
TZOFFSETTO:+0200
TZNAME:CEST
DTSTART:20170326T010000
END:DAYLIGHT
BEGIN:STANDARD
TZOFFSETFROM:+0200
TZOFFSETTO:+0100
TZNAME:CET
DTSTART:20171029T010000
END:STANDARD
END:VTIMEZONE
BEGIN:VEVENT
DTSTART;TZID=Europe/Berlin:20171120T190000
DTEND;TZID=Europe/Berlin:20171120T200000
DTSTAMP:20260419T153500
CREATED:20170929T093928Z
LAST-MODIFIED:20170929T093928Z
UID:118653-1511204400-1511208000@www.mucbook.de
SUMMARY:The War On Drugs @ Muffathalle
DESCRIPTION:Mit dem Album „Lost In The Dream“ gelang ihnen 2014 endlich der Durchbruch: The War On Drugs bekamen großartige Kritiken und spielten sich mit ihrem Sound zwischen Krautrock und Americana ganz nach oben in die Hitlisten. Ihren einzigartigen Stil hat die Band um Mastermind und Sänger Adam Granduciel konsequent weiterentwickelt. Das hört man auch auf ihrer aktuellen Single „Thinking Of A Place“: Die unverkennbare Stimme von Adam Granduciel trifft auf kompakten Bandsound\, flirrende Gitarren und eine kompositorische Ruhe und Eindeutigkeit\, die ihresgleichen sucht.
URL:https://www.mucbook.de/event/the-war-on-drugs-muffathalle/
LOCATION:Muffathalle\, Zellstr. 4\, 81667
CATEGORIES:Live,Musik
END:VEVENT
END:VCALENDAR