BEGIN:VCALENDAR
VERSION:2.0
PRODID:-//MUCBOOK - ECPv5.14.0.4//NONSGML v1.0//EN
CALSCALE:GREGORIAN
METHOD:PUBLISH
X-WR-CALNAME:MUCBOOK
X-ORIGINAL-URL:https://www.mucbook.de
X-WR-CALDESC:Veranstaltungen für MUCBOOK
BEGIN:VTIMEZONE
TZID:Europe/Berlin
BEGIN:DAYLIGHT
TZOFFSETFROM:+0100
TZOFFSETTO:+0200
TZNAME:CEST
DTSTART:20190331T010000
END:DAYLIGHT
BEGIN:STANDARD
TZOFFSETFROM:+0200
TZOFFSETTO:+0100
TZNAME:CET
DTSTART:20191027T010000
END:STANDARD
END:VTIMEZONE
BEGIN:VEVENT
DTSTART;TZID=Europe/Berlin:20190803T160000
DTEND;TZID=Europe/Berlin:20190803T210000
DTSTAMP:20260424T132949
CREATED:20190801T144328Z
LAST-MODIFIED:20190801T144328Z
UID:161966-1564848000-1564866000@www.mucbook.de
SUMMARY:Vernissage "Plush Bay" @ Feierwerk Farbenladen
DESCRIPTION:PLUSH BAY\nAusstellung von: Lena Gerbert & Sebastian Dürst \nÖffnungszeiten: 03.08. bis 25.08.2019\, jeweils samstags und sonntags von 16:00 bis 21:00 Uhr \nEintritt frei \nProgramm:\n03.08. Vernissage – mit Band SAMT\n04.08. Lesung von Maximilian Weigl\n10.08. Musik Angela Aux\n18.08. Musik MAILÄNDER\n25.08. Finissage \nWillkommen in PLUSH BAY\nDas Kreativbüro Gerbert & Dürst präsentiert Bilder\, grafische Antworten und ihre verplüschte Kommunikation miteinander. Die Ausstellung lässt dabei die fotografischen Ausschnitte von Sebastian Dürst in die Illustrationen von Lena Gerbert abtauchen\, um so eine eigene Perspektive voller Phantasmen zu kreieren. Gebäudefassaden werden dabei zu versteckten Nachrichten\, tropische Wälder zum eigenen Vorgarten und Busfenster zur Behausung gedrungener Gestalten. Die Geradlinigkeit der abgelichteten Motive erscheint dabei in spielerisch neuem Glanz. Ein pastellener matter Glanz\, der sich wie warmer Kaugummi über Ablichtungen zieht\, ohne dabei am Ernst der Welt kleben zu bleiben. Gerbert&Dürst entführen nach „Plush Bay“ und so in einen samtigen Kosmos der Wechselwirkungen\, Parallelen\, Brüchen\, Ergänzungen und Entrückungen. \nLinks: gerbertundduerst.de | instagram.com/gerbertundduerst/ \nDie Ausstellung wird präsentiert von Mucbook – das Münchner Stadtmagazin \nMehr Infos zu den Künstlern:\nGerbert&Dürst [Grafikdesign\, Fotographie | München]\nZweifacher Feuereifer brennt doppelt gut. Deswegen haben sich Lena Gerbert und Sebastian Dürst in München zusammengetan. Sie Grafikdesignerin\, er Fotograf. Gemeinsam visualisieren sie Corporate Identities\, Editorials\, Websites und freie Projekte und zwar so frisch\, dass man gar nicht mehr weggucken kann.
URL:https://www.mucbook.de/event/vernissage-plush-bay-feierwerk-farbenladen/
LOCATION:Feierwerk Farbenladen
CATEGORIES:Ausstellung,Kunst
END:VEVENT
END:VCALENDAR