BEGIN:VCALENDAR
VERSION:2.0
PRODID:-//MUCBOOK - ECPv5.14.0.4//NONSGML v1.0//EN
CALSCALE:GREGORIAN
METHOD:PUBLISH
X-WR-CALNAME:MUCBOOK
X-ORIGINAL-URL:https://www.mucbook.de
X-WR-CALDESC:Veranstaltungen für MUCBOOK
BEGIN:VTIMEZONE
TZID:Europe/Berlin
BEGIN:DAYLIGHT
TZOFFSETFROM:+0100
TZOFFSETTO:+0200
TZNAME:CEST
DTSTART:20190331T010000
END:DAYLIGHT
BEGIN:STANDARD
TZOFFSETFROM:+0200
TZOFFSETTO:+0100
TZNAME:CET
DTSTART:20191027T010000
END:STANDARD
END:VTIMEZONE
BEGIN:VEVENT
DTSTART;TZID=Europe/Berlin:20190212T183000
DTEND;TZID=Europe/Berlin:20190212T203000
DTSTAMP:20260424T155117
CREATED:20190130T153148Z
LAST-MODIFIED:20190130T153148Z
UID:147010-1549996200-1550003400@www.mucbook.de
SUMMARY:VORTRAG  | Herta Müller: „Was nicht gelingt\, findet der Wind. Ein Vortrag“
DESCRIPTION:Es ist bitter. Aber es liegt heute fast noch derselbe Schatten wie 1945 auf dem Thema Exil. Wer sich vor der Verfolgung durch die Nazis ins Exil retten konnte\, galt damals nicht als Opfer und für die Bundesregierung gelten die Geflohenen bis heute nicht als Opfer\, die einen zentralen Gedenkort verdienen.Herta Müller plädiert für ein Museum des Exils. Dieses Museum könnte den hunderttausenden Geflohenen von damals endlich einen Ort in Deutschland geben und zeigen\, was Flucht vor Diktatur bedeutet und worauf es ankommt\, wenn es ums nackte Leben geht.DI 12. FEBRUAR | 18.30 | Pinakothek der Moderne | Ernst von Siemens-Auditorium | Eintritt 10 Euro\, für Mitglieder der Max Beckmann Gesellschaft e.V. freier Eintritt
URL:https://www.mucbook.de/event/vortrag-herta-mueller-was-nicht-gelingt-findet-der-wind-ein-vortrag/
LOCATION:Pinakothek der Moderne\, Barer Str. 40\, München\, 80333
CATEGORIES:Diskussion,Lesung,Vortrag
END:VEVENT
END:VCALENDAR