BEGIN:VCALENDAR
VERSION:2.0
PRODID:-//MUCBOOK - ECPv5.14.0.4//NONSGML v1.0//EN
CALSCALE:GREGORIAN
METHOD:PUBLISH
X-WR-CALNAME:MUCBOOK
X-ORIGINAL-URL:https://www.mucbook.de
X-WR-CALDESC:Veranstaltungen für MUCBOOK
BEGIN:VTIMEZONE
TZID:Europe/Berlin
BEGIN:DAYLIGHT
TZOFFSETFROM:+0100
TZOFFSETTO:+0200
TZNAME:CEST
DTSTART:20200329T010000
END:DAYLIGHT
BEGIN:STANDARD
TZOFFSETFROM:+0200
TZOFFSETTO:+0100
TZNAME:CET
DTSTART:20201025T010000
END:STANDARD
END:VTIMEZONE
BEGIN:VEVENT
DTSTART;TZID=Europe/Berlin:20201002T150000
DTEND;TZID=Europe/Berlin:20201004T190000
DTSTAMP:20260423T122826
CREATED:20200923T135604Z
LAST-MODIFIED:20200923T135604Z
UID:192464-1601650800-1601838000@www.mucbook.de
SUMMARY:VR Wiesn @Pixel
DESCRIPTION:In Kooperation mit dem VR Wiesn 360-Team veranstaltet das im Gasteig angesiedelte Medienlabor „Raum für Medien\, Kultur und Partizipation“ einen virtuellen Spaziergang über das berühmteste Volksfest der Welt. Die virtuelle 360° Wiesn beginnt an der Bavaria-Statue. Von hier aus startend spaziert der Zuschauer an der Seite eines bayerischen VR-Guides über die sonnige Theresienwiese. Dabei erlebt er mehrere Highlights des Oktoberfestes\, wie die belebten Schaustellerstraßen und einen Bierzelt-Besuch.
URL:https://www.mucbook.de/event/vr-wiesn-pixel/
LOCATION:Pixel\, Rosenheimer Str. 5\, 81667 München\, Deutschland
CATEGORIES:Ausstellung,Kunst
ORGANIZER;CN="Pixel":MAILTO:pixel@jff.de
END:VEVENT
END:VCALENDAR