BEGIN:VCALENDAR
VERSION:2.0
PRODID:-//MUCBOOK - ECPv5.14.0.4//NONSGML v1.0//EN
CALSCALE:GREGORIAN
METHOD:PUBLISH
X-WR-CALNAME:MUCBOOK
X-ORIGINAL-URL:https://www.mucbook.de
X-WR-CALDESC:Veranstaltungen für MUCBOOK
BEGIN:VTIMEZONE
TZID:Europe/Berlin
BEGIN:DAYLIGHT
TZOFFSETFROM:+0100
TZOFFSETTO:+0200
TZNAME:CEST
DTSTART:20170326T010000
END:DAYLIGHT
BEGIN:STANDARD
TZOFFSETFROM:+0200
TZOFFSETTO:+0100
TZNAME:CET
DTSTART:20171029T010000
END:STANDARD
END:VTIMEZONE
BEGIN:VEVENT
DTSTART;TZID=Europe/Berlin:20170413T160000
DTEND;TZID=Europe/Berlin:20170413T230000
DTSTAMP:20260422T032742
CREATED:20170315T102336Z
LAST-MODIFIED:20170315T102336Z
UID:104884-1492099200-1492124400@www.mucbook.de
SUMMARY:Beginn: Wannda Kulturfestival @ Viehhof
DESCRIPTION:♛ Hereinspaziert. Tretet ein in das Wanndaland ♛ \nIm zauberhaften Wanndaland auf dem Viehhof präsentieren wir Euch erneut unser kleines Kulturfestival mit Theater\, Kabarett\, Tanzperformances\, Floh- und Foodmarkt. Und wieder einmal wird eine große Kunstausstellung auf dem gesamten Areal eine zentrale Rolle spielen. Lasst Euch von den unterschiedlichsten Ideen und der Kreativität der Künstler inspirieren. \nAn lauen Frühlingstagen könnt Ihr gemütliche Nachmittage mit gutem Kaffee\, Getränken\, kulinarischen Köstlichkeiten von herzhaft bis süß und täglicher Live-Musik genießen. \nDas Angebot ist abwechslungsreich und vielseitig – von exotischem indischen Essen\, selbstgemachten Burgern und Pommes\, vegetarischem Döner\, bis zu feurigen Burritos\, oder süßen Crepés und anderen leckereien ist für jeden etwas dabei. In den nostalgischen Zirkuszelten oder in dem wunderschönen Nachtbiergarten kann bei täglichem Kunst- und Kulturprogramm gestöbert\, verzaubert und geschlemmt werden.\n \nTäglich kostenfreie Konzerte und Nachtbiergarten\nKostenloses Kinderprogramm: Bastelstunden\, Kasperletheater. \nDas Wanndaland ist für Euch geöffnet:\n♛ 13.04. bis 01.05.2017 ♛
URL:https://www.mucbook.de/event/wannda-kulturfestival-viehhof/
LOCATION:Viehhof\, Tumblingerstraße 29\, München\, 80337\, Deutschland
CATEGORIES:Kunst,Lecker,Märkte und Messen,Theater
END:VEVENT
END:VCALENDAR