BEGIN:VCALENDAR
VERSION:2.0
PRODID:-//MUCBOOK - ECPv5.14.0.4//NONSGML v1.0//EN
CALSCALE:GREGORIAN
METHOD:PUBLISH
X-WR-CALNAME:MUCBOOK
X-ORIGINAL-URL:https://www.mucbook.de
X-WR-CALDESC:Veranstaltungen für MUCBOOK
BEGIN:VTIMEZONE
TZID:Europe/Berlin
BEGIN:DAYLIGHT
TZOFFSETFROM:+0100
TZOFFSETTO:+0200
TZNAME:CEST
DTSTART:20230326T010000
END:DAYLIGHT
BEGIN:STANDARD
TZOFFSETFROM:+0200
TZOFFSETTO:+0100
TZNAME:CET
DTSTART:20231029T010000
END:STANDARD
END:VTIMEZONE
BEGIN:VEVENT
DTSTART;TZID=Europe/Berlin:20230311T180000
DTEND;TZID=Europe/Berlin:20230311T220000
DTSTAMP:20260423T174109
CREATED:20230308T085538Z
LAST-MODIFIED:20230308T085538Z
UID:220718-1678557600-1678572000@www.mucbook.de
SUMMARY:"Was ist passiert?" @ Kunstblock Balve
DESCRIPTION:ENDLICH ENDLICH ENDLICH gibt es wieder KUNST im KUNST BLOCK BALVE. \nAm 11.03. ab 18 Uhr wird es eine Wiedereröffnung-Ausstellung geben! Der Eintritt ist kostenlos! \nDie Ausstellung stellt die Frage „WAS IST PASSIERT?“ \nFolgende Künstler*innen werden ausstellen (alphabetisch sortiert): \nJulian Arayapong / Marc Aurel / Frank Balve / Yulia Bas / Joseph Beuys / Elena Dahm / Aida von Denffer / Walter De Maria / Leon Eixenberger / Annemarie Faupel / John Paul Fauves / Lisa Geller / Dana Greiner / Maximilian Helk / Peter Hince / Benjamin Houlihan / Monika Huber / Josef Knoll / Bo Christian Larsson / Sophie Lindner / Defne Matur / Rita McBride / Jonathan Meese / Ole Müller / Tony Shehawi / Linda Sollacher / Dawson Stout / Chris Tille / Mariya Vasilyeva \n„WAS IST PASSIERT?“ hinterfragt natürlich die ganz großen Themen unserer Zeit – wie Pandemie\, Krieg\, Energie-\, Wirtschafts-\,Welt- und Werte-Krisen BLA BLA BLA … ABER „was ist passiert?“ ist auch die einfachste aller Small-Talk-Fragen und befriedigt damit gleichzeitig unseren Need nach Austausch und Leichtigkeit abseits der permanenten Schwere der großen Weltensorgen. Und dazwischen geht „WAS IST PASSIERT?“ allen möglichen Veränderungen in der eigenen Stadt\, in der Kunstwelt\, in Technologie-Evolutionen à la Künstliche Intelligenz bis zur großen allumfassenden Vergänglichkeit auf den Grund und stellt infrage\, wie wir mit unserer Geschichte und unseren Erinnerungen umgehen. \nDiese Ausstellung stellt junge\, zeitgenössische Kunst gegenüber alten Meister*innen der Moderne. Neben bildender Kunst\, Malerei\, Fotografie\, Videokunst sowie Skulptur- und Objektkunst werden auch Performances und musikalische Live-Acts präsentiert. \nPerformances\, Fashion und Musik von: \nBradley Applewhite (B 4ME) / Frank Balve / Alina Belyagina / DamnItsDisco / Deadriot _sync / Johannes Geitl (Hansinger) / Anima Henn / LOVERS Munich / Paul and the Hungry Wolf / Robin Strona \nIm Anschluss ab 22 Uhr stellen wir die „WAS IST PASSIERT?“ Frage erneut in Bezug auf das musikalische Erbe Münchens. Mit der MERCURY begründen\, erleben und erfinden wir die für tot geglaubte Disco Ära neu und bringen den Sound of Munich zurück! \nDie Kunstausstellung wird initiiert und kuratiert von Frank Balve.
URL:https://www.mucbook.de/event/was-ist-passiert-kunstblock-balve/
LOCATION:Kunstblock Balve\, Friedrich-von-Pauli-Straße 21\, München\, Bayern\, 80687\, Deutschland
CATEGORIES:Kunst,Opening,Vernissage
ORGANIZER;CN="Kunstblock%20Balve":MAILTO:contact@kunstblockbalve.com
END:VEVENT
END:VCALENDAR