BEGIN:VCALENDAR
VERSION:2.0
PRODID:-//MUCBOOK - ECPv5.14.0.4//NONSGML v1.0//EN
CALSCALE:GREGORIAN
METHOD:PUBLISH
X-WR-CALNAME:MUCBOOK
X-ORIGINAL-URL:https://www.mucbook.de
X-WR-CALDESC:Veranstaltungen für MUCBOOK
BEGIN:VTIMEZONE
TZID:Europe/Berlin
BEGIN:DAYLIGHT
TZOFFSETFROM:+0100
TZOFFSETTO:+0200
TZNAME:CEST
DTSTART:20170326T010000
END:DAYLIGHT
BEGIN:STANDARD
TZOFFSETFROM:+0200
TZOFFSETTO:+0100
TZNAME:CET
DTSTART:20171029T010000
END:STANDARD
END:VTIMEZONE
BEGIN:VEVENT
DTSTART;TZID=Europe/Berlin:20171021T120000
DTEND;TZID=Europe/Berlin:20171021T200000
DTSTAMP:20260422T005046
CREATED:20170906T105805Z
LAST-MODIFIED:20170906T105805Z
UID:117248-1508587200-1508616000@www.mucbook.de
SUMMARY:WEINverliebt in München @ Münchner Merkur
DESCRIPTION:WEINverliebt\, die Wein-Probier-Messe von VICAMPO\, kommt nach München! \nSamstag\, 21. Okt. 2017 von 12 – 20 Uhr\nSonntag\, 22. Okt. 2017 von 12 – 20 Uhr \nProbieren Sie sich nach Herzenslust durch über 200 Weine von 30 Weingütern! Neue Lieblingsweine finden\, bestellen und dabei auch noch sparen: Zahlreiche Top-Winzer und junge Aufsteiger beraten Sie gerne persönlich – kompetent und ungezwungen.\nDas Rundumerlebnis “WEINverliebt” bietet Weinliebhabern wie auch neugierigen Entdeckern zahlreiche gute Gründe\, dabei zu sein: Leckeres Street-Food für das leibliche Wohl\, entspannte Lounge-Musik für die richtige Atmosphäre und die VICAMPO-Experten für das Wein-Know-How. \nEintritt: 13 € im VVK\, 15 € an der Tageskasse\, Kinder und Jugendliche unter 16 Jahren frei. \nTickets in Kürze erhältlich!\nWein\nWeinprobe\nFood Festival
URL:https://www.mucbook.de/event/weinverliebt-in-muenchen-muenchner-merkur/
LOCATION:TZ Haus
CATEGORIES:Lecker,Live,Märkte und Messen
END:VEVENT
END:VCALENDAR