BEGIN:VCALENDAR
VERSION:2.0
PRODID:-//MUCBOOK - ECPv5.14.0.4//NONSGML v1.0//EN
CALSCALE:GREGORIAN
METHOD:PUBLISH
X-WR-CALNAME:MUCBOOK
X-ORIGINAL-URL:https://www.mucbook.de
X-WR-CALDESC:Veranstaltungen für MUCBOOK
BEGIN:VTIMEZONE
TZID:Europe/Berlin
BEGIN:DAYLIGHT
TZOFFSETFROM:+0100
TZOFFSETTO:+0200
TZNAME:CEST
DTSTART:20190331T010000
END:DAYLIGHT
BEGIN:STANDARD
TZOFFSETFROM:+0200
TZOFFSETTO:+0100
TZNAME:CET
DTSTART:20191027T010000
END:STANDARD
END:VTIMEZONE
BEGIN:VEVENT
DTSTART;TZID=Europe/Berlin:20191024T200000
DTEND;TZID=Europe/Berlin:20191024T200000
DTSTAMP:20260419T204635
CREATED:20190930T113148Z
LAST-MODIFIED:20190930T113309Z
UID:165527-1571947200-1571947200@www.mucbook.de
SUMMARY:When Saints Go Machine @ Rote Sonne
DESCRIPTION:Nach der EP „It’s A Mad Love“ aus 2018\, veröffentlichen die Dänen WHEN SAINTS GO MACHINE nach sechs Jahren endlich ein neues Full-Length Album mit dem Namen „SO DEEP“. Einen ersten Vorgeschmack auf das Album gibt die gleichnamige Single\, die im Februar erschien. „SO DEEP“ klingt vertraut und doch experimentell. Verzerrter melancholischer dänischer Pop at its best! \nMit dem neuen Album im Gepäck werden WHEN SAINTS GO MACHINE das erste Mal nach ihrer Pause wieder in Europa auf Tour sein. \nDo. 24.10.2019 \n20:00 Uhr \nRote Sonne\, Maximiliansplatz 5
URL:https://www.mucbook.de/event/when-saints-go-machine-rote-sonne/
LOCATION:Rote Sonne\, Maximiliansplatz 5\, München\, Bayern\, 80333\, Deutschland
CATEGORIES:Live
ATTACH;FMTTYPE=image/jpeg:https://www.mucbook.de/wp-content/uploads/2019/09/WhenSaintsGoMachine.jpg
END:VEVENT
END:VCALENDAR