BEGIN:VCALENDAR
VERSION:2.0
PRODID:-//MUCBOOK - ECPv5.14.0.4//NONSGML v1.0//EN
CALSCALE:GREGORIAN
METHOD:PUBLISH
X-WR-CALNAME:MUCBOOK
X-ORIGINAL-URL:https://www.mucbook.de
X-WR-CALDESC:Veranstaltungen für MUCBOOK
BEGIN:VTIMEZONE
TZID:Europe/Berlin
BEGIN:DAYLIGHT
TZOFFSETFROM:+0100
TZOFFSETTO:+0200
TZNAME:CEST
DTSTART:20180325T010000
END:DAYLIGHT
BEGIN:STANDARD
TZOFFSETFROM:+0200
TZOFFSETTO:+0100
TZNAME:CET
DTSTART:20181028T010000
END:STANDARD
END:VTIMEZONE
BEGIN:VEVENT
DTSTART;TZID=Europe/Berlin:20181018T210000
DTEND;TZID=Europe/Berlin:20181018T233000
DTSTAMP:20260421T200157
CREATED:20180903T124008Z
LAST-MODIFIED:20180903T124008Z
UID:137564-1539896400-1539905400@www.mucbook.de
SUMMARY:Wooden Peak @ Glockenbackwerkstatt
DESCRIPTION:Wooden Peak ist ein Leipziger Indie/Electronica-Duo\, das stetig die eigenen Grenzen auslotet. Sebastian Bode und Jonas Wolter schaffen es mühelos\, ihre Zweimannbesetzung zum Orchester aufzublasen\, kochen Stimmungen hoch\, die sie erschaffen haben\, lassen aufatmen und nehmen mit. Im Januar 2019 erscheint Ihr viertes Album “Yellow Walls”\, dessen Songs sie schon diesen Herbst auf einer ersten Tour präsentieren. \nDie neuen Stücke werfen Blicke in Ecken\, durch Fenster\, auf Menschen und Strukturen\, auf \nMöbel und auf Staub im Licht. Harmonieläufe und Loops lassen einleuchten\, warum die Band 2016 für Tortoise eröffnete. Sperrig\, nie störrisch stoppen Bode und Wolter immer wieder kurz vorm Pop. Zu Rhythmen\, Bewegungen\, Liedern verdichtete Soundscapes und Stimmungen\, kleine Klanginstallationen mit Beat und Gesang. Bode und Wolter lassen Platz für die Musik. \nhttp://www.woodenpeak.de
URL:https://www.mucbook.de/event/wooden-peak-glockenbackwerkstatt/
LOCATION:Glockenbachwerkstatt\, Blumenstraße 7
CATEGORIES:Live,Musik
END:VEVENT
END:VCALENDAR