BEGIN:VCALENDAR
VERSION:2.0
PRODID:-//MUCBOOK - ECPv5.14.0.4//NONSGML v1.0//EN
CALSCALE:GREGORIAN
METHOD:PUBLISH
X-WR-CALNAME:MUCBOOK
X-ORIGINAL-URL:https://www.mucbook.de
X-WR-CALDESC:Veranstaltungen für MUCBOOK
BEGIN:VTIMEZONE
TZID:Europe/Berlin
BEGIN:DAYLIGHT
TZOFFSETFROM:+0100
TZOFFSETTO:+0200
TZNAME:CEST
DTSTART:20200329T010000
END:DAYLIGHT
BEGIN:STANDARD
TZOFFSETFROM:+0200
TZOFFSETTO:+0100
TZNAME:CET
DTSTART:20201025T010000
END:STANDARD
END:VTIMEZONE
BEGIN:VEVENT
DTSTART;TZID=Europe/Berlin:20201001T190000
DTEND;TZID=Europe/Berlin:20201001T220000
DTSTAMP:20260419T222625
CREATED:20200923T091400Z
LAST-MODIFIED:20200923T091400Z
UID:192423-1601578800-1601589600@www.mucbook.de
SUMMARY:Zenker Brothers\, Muallem\, Brane  @Olympiastadion München
DESCRIPTION:Blitz präsentiert:\n\n\nBrane\nMuallem\nZenker Brothers\n\nTickets unter: http://tickets.muenchenticket.net/shop/139/event/351296\n 
URL:https://www.mucbook.de/event/zenker-brothers-muallem-brane-olympiastadion-muenchen/
LOCATION:Olympiastadion\, Spiridon-Louis-Ring 21\, München\, 80809\, Deutschland
CATEGORIES:Konzert
ATTACH;FMTTYPE=image/jpeg:https://www.mucbook.de/wp-content/uploads/2020/09/blitz.jpg
END:VEVENT
END:VCALENDAR