BEGIN:VCALENDAR
VERSION:2.0
PRODID:-//MUCBOOK - ECPv5.14.0.4//NONSGML v1.0//EN
CALSCALE:GREGORIAN
METHOD:PUBLISH
X-WR-CALNAME:MUCBOOK
X-ORIGINAL-URL:https://www.mucbook.de
X-WR-CALDESC:Veranstaltungen für MUCBOOK
BEGIN:VTIMEZONE
TZID:Europe/Berlin
BEGIN:DAYLIGHT
TZOFFSETFROM:+0100
TZOFFSETTO:+0200
TZNAME:CEST
DTSTART:20250330T010000
END:DAYLIGHT
BEGIN:STANDARD
TZOFFSETFROM:+0200
TZOFFSETTO:+0100
TZNAME:CET
DTSTART:20251026T010000
END:STANDARD
END:VTIMEZONE
BEGIN:VEVENT
DTSTART;TZID=Europe/Berlin:20250731T000000
DTEND;TZID=Europe/Berlin:20250810T000000
DTSTAMP:20260421T101923
CREATED:20250416T081738Z
LAST-MODIFIED:20250416T081738Z
UID:235046-1753920000-1754784000@www.mucbook.de
SUMMARY:Der kleine Horrorladen
DESCRIPTION:Der kleine Horrorladen bringt schwarzen Humor\, eingängige Songs und viel Witz in den Theatersaal. In einer neuen Inszenierung erwacht die gefräßige Pflanze Audrey II zum Leben und zieht das Publikum mit bekannten Hits\, Grusel und Spannung in ihren Bann. Die Geschichte über Liebe\, Gier und Ruhmsucht entfaltet sich in aufwendigen Bühnenbildern und mitreißenden Choreografien.
URL:https://www.mucbook.de/event/der-kleine-horrorladen/
LOCATION:Deutsches Theater\, Schwanthalerstraße 13\, München
CATEGORIES:Theater
ATTACH;FMTTYPE=image/webp:https://www.mucbook.de/wp-content/uploads/2025/04/3000x1085-Der-kleine-Horrorladen-Keyvisual-Deutsches-Theater-Muenchen-scaled.webp
END:VEVENT
BEGIN:VEVENT
DTSTART;VALUE=DATE:20250801
DTEND;VALUE=DATE:20250825
DTSTAMP:20260421T101923
CREATED:20250729T133420Z
LAST-MODIFIED:20250729T133420Z
UID:236106-1754006400-1756079999@www.mucbook.de
SUMMARY:Theatron MusikSommer
DESCRIPTION:Drei Wochen lang spielen Künstler:innen aus verschiedenen Genres Konzerte auf der Bühne am Olympiasee. Von Indie und Deutschrap über Pop und Italienische Folklore bis hin zu 80s Synths und Jazz ist alles mögliche dabei.\nDer Eintritt zum Festival ist kostenlos.\nDas THEATRON ist ein Amphitheater im Olympiapark\, das am Olympiasee direkt unterhalb der Olympia-Schwimmhalle liegt. \nFoto: Oliver Wick
URL:https://www.mucbook.de/event/theatron-musiksommer/
CATEGORIES:Festival,Konzert,OpenAir
ATTACH;FMTTYPE=image/jpeg:https://www.mucbook.de/wp-content/uploads/2025/07/theatron_keyvisual_2025_quer_1920x1080.jpg
END:VEVENT
END:VCALENDAR