BEGIN:VCALENDAR
VERSION:2.0
PRODID:-//MUCBOOK - ECPv5.14.0.4//NONSGML v1.0//EN
CALSCALE:GREGORIAN
METHOD:PUBLISH
X-WR-CALNAME:MUCBOOK
X-ORIGINAL-URL:https://www.mucbook.de
X-WR-CALDESC:Veranstaltungen für MUCBOOK
BEGIN:VTIMEZONE
TZID:Europe/Berlin
BEGIN:DAYLIGHT
TZOFFSETFROM:+0100
TZOFFSETTO:+0200
TZNAME:CEST
DTSTART:20250330T010000
END:DAYLIGHT
BEGIN:STANDARD
TZOFFSETFROM:+0200
TZOFFSETTO:+0100
TZNAME:CET
DTSTART:20251026T010000
END:STANDARD
END:VTIMEZONE
BEGIN:VEVENT
DTSTART;TZID=Europe/Berlin:20251109T140000
DTEND;TZID=Europe/Berlin:20251109T190000
DTSTAMP:20260424T132531
CREATED:20251104T081858Z
LAST-MODIFIED:20251104T081858Z
UID:236640-1762696800-1762714800@www.mucbook.de
SUMMARY:Allacher Kunstfest mit Künstlermarkt
DESCRIPTION:Ausstellung\, Kunstmarkt\, Tanz und Drinks. \nUm 17:30 Uhr gibt es eine Tanzvorführung der Bulgarischen Folklore-Tanzgruppe “Münchensko Horce” \nEintritt frei! \nTeilnehmerliste: \n\nBarbara Gillessen/ FotobockMunichArt (Recycle-Art\, Acrylmalerei)\nBernadette Hastreiter (Astrologie\, Ölmalerei)\nBirgit Ganß / Gansstoll (Upcycling-Kunst)\nBrigitte Eberl (Tierskulpturen)\nChristine Reff-Richter (Malerei\, Handarbeit)\nClaudi Zistl (Holzbildhauerei\, Wandmalerei)\nDavid Gecko (UpcyclingARTist)\nDr. Max Hofmayer / Kunstgedruckt (Kunstdruck)\nFrieda Freis (Malerei)\nGeorgi Stoyanov (Honig und Wachskerzen)- Bee Lucky\nGiovanni Campolieti und Yvonne Lax-Campolieti / Armalia (kreative Handarbeit)\nHelga Lange (Malerei)\nJens Dobbers ( Malerei)\nJulia Khramtsova (dekorative Malerei\, Illustration)\nMiki Homolka (Zentangle Art)\nMischa Sugar Art (Malerei)\nMücke Gautzsch (Malerei mit Asche)\nNikos W. Dettmar (Skulpturen)\nTanja Merriam (Malerei)\nWerner Hoffmann (Kunsthandwerk und Schmuck aus Holz\, Metall und Steinen)
URL:https://www.mucbook.de/event/allacher-kunstfest-mit-kuenstlermarkt/
LOCATION:Allacher Schießstätte\, Servetstraße 1\, München\, 80999\, Deutschland
CATEGORIES:Ausstellung,Fest,Kunst,Märkte und Messen
END:VEVENT
END:VCALENDAR