BEGIN:VCALENDAR
VERSION:2.0
PRODID:-//MUCBOOK - ECPv5.14.0.4//NONSGML v1.0//EN
CALSCALE:GREGORIAN
METHOD:PUBLISH
X-WR-CALNAME:MUCBOOK
X-ORIGINAL-URL:https://www.mucbook.de
X-WR-CALDESC:Veranstaltungen für MUCBOOK
BEGIN:VTIMEZONE
TZID:Europe/Berlin
BEGIN:DAYLIGHT
TZOFFSETFROM:+0100
TZOFFSETTO:+0200
TZNAME:CEST
DTSTART:20250330T010000
END:DAYLIGHT
BEGIN:STANDARD
TZOFFSETFROM:+0200
TZOFFSETTO:+0100
TZNAME:CET
DTSTART:20251026T010000
END:STANDARD
BEGIN:DAYLIGHT
TZOFFSETFROM:+0100
TZOFFSETTO:+0200
TZNAME:CEST
DTSTART:20260329T010000
END:DAYLIGHT
BEGIN:STANDARD
TZOFFSETFROM:+0200
TZOFFSETTO:+0100
TZNAME:CET
DTSTART:20261025T010000
END:STANDARD
END:VTIMEZONE
BEGIN:VEVENT
DTSTART;VALUE=DATE:20251118
DTEND;VALUE=DATE:20260301
DTSTAMP:20260422T133921
CREATED:20260111T164905Z
LAST-MODIFIED:20260111T170103Z
UID:237018-1763424000-1772323199@www.mucbook.de
SUMMARY:Fotoausstellung „A Day With David Bowie“ im Pineapple Park
DESCRIPTION:Die großformatige s/w-Fotoserie „A Day with David Bowie“ der Fotografin Christine de Grancy ist noch bis 28. Februar im Münchner Pineapple Park zu sehen. Mit einem zurückhaltenden Blick auf einen reflektierten Bowie zeigen die künstlerisch anspruchsvollen Aufnahmen eine ganz andere Seite von ihm: Die des Suchenden\, der 1994 die Landesnervenklinik Gugging bei Wien besuchte. \nBilder\, die nicht nur Fans und Kunstinteressierte begeistern werden\, sondern auch alle\, die den Mythos Bowie näher erkunden wollen. Spannender Kontrapunkt in der Ausstellung: Der begehbare\, sehr bunte „Walla-Raum“ des Gugginger Künstlers August Walla mit detailreichen Wandzeichnungen und typischer „Outsider-Art“\, die Bowie damals sehr faszinierte. \nDie etablierte Reportage-\, Kunst- und Porträtfotografin Christine de Grancy folgte 1994 einer Einladung von André Heller\, der damals zusammen mit Bowie und Brian Eno das Gugging Art Center bei Wien besuchte. \nTickets  zur Ausstellung gibt es hier.  \nNoch bis 28. Februar im Pineapple Park München\, ehem. Paketpost-Areal\, Arnulfstr. 195\, 80634 München\, S Hirschgarten\, Tram 16/17 Briefzentrum
URL:https://www.mucbook.de/event/fotoausstellung-a-day-with-david-bowie-im-pineapple-park/
LOCATION:Pineapple Park\, Arnulfstraße 195-199\, München
CATEGORIES:Ausstellung
ATTACH;FMTTYPE=image/jpeg:https://www.mucbook.de/wp-content/uploads/2026/01/Ausst_Bowie@ChristineDeGrancy-Kopie.jpeg
END:VEVENT
BEGIN:VEVENT
DTSTART;VALUE=DATE:20251121
DTEND;VALUE=DATE:20251124
DTSTAMP:20260422T133921
CREATED:20251119T201533Z
LAST-MODIFIED:20251119T201743Z
UID:236731-1763683200-1763942399@www.mucbook.de
SUMMARY:MÜNCHEN WHISKY & Spirits 2025
DESCRIPTION:Aromen & Abenteuer: Die MÜNCHEN WHISKY & Spirits kehrt zurück\nFans von Whisky\, Rum und fassgereiften Spezialitäten können sich freuen: Vom 21. bis 23. November verwandelt sich die Wappenhalle in Riem in ein Paradies für Genießer*innen. Die dritte Ausgabe der MÜNCHEN WHISKY & Spirits bringt nicht nur aromatische Schwergewichte nach München\, sondern auch zehn Masterclasses\, die Lust auf intensives Eintauchen in die Welt der Spirits machen. \nWas gibt’s Neues? Jede Menge Charakter.\nDie Messe setzt auch dieses Jahr stark auf echte Handwerkskunst – und die zeigt niemand deutlicher als Monika Pummer. Ihre Xaver Bar & Lounge im Hotel-Restaurant Dragoner in Peiting wurde vom WhiskyGuide Deutschland 2025 zur besten Whisky-Bar Deutschlands gekürt. In München feiert sie nun Messepremiere – und zwar ausschließlich mit ihren eigenen Abfüllungen. \nEin weiteres Highlight kommt von GourmetPool Limited Spirits. Das Team steht für streng limitierte Premium-Abfüllungen in Fassstärke\, die mehr erzählen als nur ihren Alkoholgehalt. Wer Lust auf Geschichten aus dem Fass hat\, wird hier fündig. \nUnd dann wäre da noch ein echtes Höhlenabenteuer: SILD “LOST CAVE” – der erste Single Malt\, der in einer wiederentdeckten Höhle am Schliersee reifte. Destillateur Tobias Maier ist vor Ort und beantwortet Fragen zum Höhlenklima\, zur Fasslagerung und natürlich zur Verkostung. \nSuntory fährt ebenfalls ein prall gefülltes Programm auf: eine Hibiki Harmony Aktion mit zwei hochwertigen Tumblern beim Kauf einer 0\,7-L-Flasche\, den Laphroaig Elements 3.0 zum Kennenlernen\, die exklusive Private Select Edition 2025 von Maker’s Mark sowie weitere limitierte Abfüllungen – perfekt auf der Jagd nach Weihnachtsgeschenken. \nMasterclasses: Zwischen Tradition\, Neuentdeckungen und Jubiläumsfeiern\nInsgesamt zehn Masterclasses laden von Freitag bis Sonntag zum nerdigen Fachsimpeln und Genießen ein. \nAllen voran: Maggie Miller\, Pionierin der deutschen Whisky-Szene. Seit vier Jahrzehnten steht sie für unabhängige Abfüllungen mit Charakter. Ihre Masterclass schlägt den Bogen von den „Good old times“ hin zu modernen New-World-Trends. \nZum Feiern lädt außerdem WHISKY FOR LIFE: Das Frankfurter Team bringt zahlreiche Jubiläumsbottlings mit und zelebriert seinen zehnten Geburtstag stilecht auf der Messe. \nJapan-Fans dürfen sich auf eine besonders exklusive Session freuen: Suntory-Brand Ambassador Daniel Schöll führt durch Yamazaki- und Hakushu-Abfüllungen 2025. Highlight sind zwei neue feste Bestandteile im Kernportfolio: Yamazaki 18 YO Mizunara Cask und den Hakushu 18 YO Peated Malt. Dazu gibt’s spannende Einblicke in über 100 Jahre Whiskygeschichte aus Japan. \nNeue Location: Die Wappenhalle in Riem\nZum ersten Mal findet das Festival in der Wappenhalle München statt – ein beeindruckendes historisches Gebäude mit viel Platz für Tastings\, Talks und gemütliches Schlendern. Raritätenhändler\, Importeure und Independent Bottler sorgen dafür\, dass die Gäste die Whiskywelt weit über die Klassiker hinaus erkunden können. \nÖffnungszeiten: \n● Freitag\, 21. November 2025: 16:00 Uhr – 21:00 Uhr \n● Samstag\, 22. November 2025: 14:00 Uhr – 21:00 Uhr \n● Sonntag\, 23. November 2025: 13:00 Uhr – 18:00 Uhr \nLocation: \nWappenhalle München \nKonrad-Zuse-Platz 7 (Messe München/Riem) \n81829 München \nDie Tickets: \n● Tagesticket: 22\,00 Euro \n● 2 Tagesticket: 37\,00 Euro \n● 3 Tagesticket: 47\,00 Euro
URL:https://www.mucbook.de/event/muenchen-whisky-spirits-2025/
LOCATION:Wappenhalle München\, Konrad-Zuse-Platz 7 (Messe München/Riem)\, München\, 81829
CATEGORIES:Festival,Messe
ATTACH;FMTTYPE=image/jpeg:https://www.mucbook.de/wp-content/uploads/2025/11/Banner_Mucbook_2560x926.jpg
ORGANIZER;CN="M%C3%BCnchen%20Spirits":MAILTO:presse@muenchen-spirits.de
END:VEVENT
END:VCALENDAR